BEGIN:VCALENDAR
VERSION:2.0
PRODID:-//Hyperion Creative Agency - ECPv6.15.20//NONSGML v1.0//EN
CALSCALE:GREGORIAN
METHOD:PUBLISH
X-WR-CALNAME:Hyperion Creative Agency
X-ORIGINAL-URL:https://hyperionca.com
X-WR-CALDESC:Events for Hyperion Creative Agency
REFRESH-INTERVAL;VALUE=DURATION:PT1H
X-Robots-Tag:noindex
X-PUBLISHED-TTL:PT1H
BEGIN:VTIMEZONE
TZID:UTC
BEGIN:STANDARD
TZOFFSETFROM:+0000
TZOFFSETTO:+0000
TZNAME:UTC
DTSTART:20250101T000000
END:STANDARD
END:VTIMEZONE
BEGIN:VEVENT
DTSTART;VALUE=DATE:20260930
DTEND;VALUE=DATE:20261001
DTSTAMP:20260422T104247
CREATED:20260401T201200Z
LAST-MODIFIED:20260401T201200Z
UID:2283-1790726400-1790812799@hyperionca.com
SUMMARY:HPD SSL renewal
DESCRIPTION:Purchase and install new SSL
URL:https://hyperionca.com/event/hpd-ssl-renewal/
ATTACH;FMTTYPE=image/jpeg:https://hyperionca.com/wp-content/uploads/2020/10/HPD-facebook-fallback-600x315px.jpg
END:VEVENT
END:VCALENDAR