BEGIN:VCALENDAR
VERSION:2.0
PRODID:-//Hyperion Creative Agency - ECPv6.15.20//NONSGML v1.0//EN
CALSCALE:GREGORIAN
METHOD:PUBLISH
X-WR-CALNAME:Hyperion Creative Agency
X-ORIGINAL-URL:https://hyperionca.com
X-WR-CALDESC:Events for Hyperion Creative Agency
REFRESH-INTERVAL;VALUE=DURATION:PT1H
X-Robots-Tag:noindex
X-PUBLISHED-TTL:PT1H
BEGIN:VTIMEZONE
TZID:UTC
BEGIN:STANDARD
TZOFFSETFROM:+0000
TZOFFSETTO:+0000
TZNAME:UTC
DTSTART:20250101T000000
END:STANDARD
END:VTIMEZONE
BEGIN:VEVENT
DTSTART;VALUE=DATE:20261015
DTEND;VALUE=DATE:20261016
DTSTAMP:20260422T182614
CREATED:20260401T201050Z
LAST-MODIFIED:20260401T201050Z
UID:2281-1792022400-1792108799@hyperionca.com
SUMMARY:Hyperion SSL Renewal
DESCRIPTION:Buy and install new SSL
URL:https://hyperionca.com/event/hyperion-ssl-renewal/
ATTACH;FMTTYPE=image/jpeg:https://hyperionca.com/wp-content/uploads/2019/03/hyperion-facebook-fallback-600x315px.jpg
END:VEVENT
END:VCALENDAR