BEGIN:VCALENDAR
VERSION:2.0
PRODID:-//Hyperion Creative Agency - ECPv6.15.20//NONSGML v1.0//EN
CALSCALE:GREGORIAN
METHOD:PUBLISH
X-WR-CALNAME:Hyperion Creative Agency
X-ORIGINAL-URL:https://hyperionca.com
X-WR-CALDESC:Events for Hyperion Creative Agency
REFRESH-INTERVAL;VALUE=DURATION:PT1H
X-Robots-Tag:noindex
X-PUBLISHED-TTL:PT1H
BEGIN:VTIMEZONE
TZID:UTC
BEGIN:STANDARD
TZOFFSETFROM:+0000
TZOFFSETTO:+0000
TZNAME:UTC
DTSTART:20230101T000000
END:STANDARD
END:VTIMEZONE
BEGIN:VEVENT
DTSTART;VALUE=DATE:20260930
DTEND;VALUE=DATE:20261001
DTSTAMP:20260422T224922
CREATED:20260401T201200Z
LAST-MODIFIED:20260401T201200Z
UID:2283-1790726400-1790812799@hyperionca.com
SUMMARY:HPD SSL renewal
DESCRIPTION:Purchase and install new SSL
URL:https://hyperionca.com/event/hpd-ssl-renewal/
ATTACH;FMTTYPE=image/jpeg:https://hyperionca.com/wp-content/uploads/2020/10/HPD-facebook-fallback-600x315px.jpg
END:VEVENT
BEGIN:VEVENT
DTSTART;VALUE=DATE:20260926
DTEND;VALUE=DATE:20260927
DTSTAMP:20260422T224922
CREATED:20260319T215000Z
LAST-MODIFIED:20260319T215019Z
UID:2276-1790380800-1790467199@hyperionca.com
SUMMARY:Inside NE Courthouses
DESCRIPTION:Inquire about hosting package \nPurchase and install SSL
URL:https://hyperionca.com/event/inside-ne-courthouses/
ATTACH;FMTTYPE=image/jpeg:https://hyperionca.com/wp-content/uploads/2026/03/Courthouse-Book-Cover-web.jpg
END:VEVENT
BEGIN:VEVENT
DTSTART;VALUE=DATE:20260926
DTEND;VALUE=DATE:20260927
DTSTAMP:20260422T224922
CREATED:20260319T214620Z
LAST-MODIFIED:20260319T214620Z
UID:2270-1790380800-1790467199@hyperionca.com
SUMMARY:Pinehurst SSL renewal
DESCRIPTION:Inquire about hosting package renewal \nPurchase and install SSL certificate
URL:https://hyperionca.com/event/pinehurst-ssl-renewal/
ATTACH;FMTTYPE=image/png:https://hyperionca.com/wp-content/uploads/2026/03/Pinehurst.png
END:VEVENT
BEGIN:VEVENT
DTSTART;VALUE=DATE:20260925
DTEND;VALUE=DATE:20260926
DTSTAMP:20260422T224922
CREATED:20200226T005355Z
LAST-MODIFIED:20260319T214151Z
UID:1516-1790294400-1790380799@hyperionca.com
SUMMARY:WanderLoess SSL Certificate Renewal
DESCRIPTION:Inquire about Hosting Package renewal\nCharge\, purchase for new SSL
URL:https://hyperionca.com/event/1516/
ATTACH;FMTTYPE=image/png:https://hyperionca.com/wp-content/uploads/2020/02/WanderLoess-Logo3-shadow-1000px.png
END:VEVENT
BEGIN:VEVENT
DTSTART;VALUE=DATE:20260601
DTEND;VALUE=DATE:20260602
DTSTAMP:20260422T224922
CREATED:20260319T211603Z
LAST-MODIFIED:20260319T214243Z
UID:2260-1780272000-1780358399@hyperionca.com
SUMMARY:402Flooring SSL renewal
DESCRIPTION:Inquire about Hosting renewal package\nPurchase and install SSL for year
URL:https://hyperionca.com/event/402flooring-ssl-renewal-2/
ATTACH;FMTTYPE=image/jpeg:https://hyperionca.com/wp-content/uploads/2021/06/402-floors-black-logo.jpg
END:VEVENT
BEGIN:VEVENT
DTSTART;VALUE=DATE:20240823
DTEND;VALUE=DATE:20240824
DTSTAMP:20260422T224922
CREATED:20201027T201425Z
LAST-MODIFIED:20230824T144453Z
UID:1618-1724371200-1724457599@hyperionca.com
SUMMARY:Heartland Photos Domain Renewal
DESCRIPTION:Auto renewal set.
URL:https://hyperionca.com/event/heartland-photos-domain-renewal/
ATTACH;FMTTYPE=image/jpeg:https://hyperionca.com/wp-content/uploads/2020/10/HPD-facebook-fallback-600x315px.jpg
END:VEVENT
END:VCALENDAR