BEGIN:VCALENDAR
VERSION:2.0
PRODID:-//Hyperion Creative Agency - ECPv6.15.20//NONSGML v1.0//EN
CALSCALE:GREGORIAN
METHOD:PUBLISH
X-WR-CALNAME:Hyperion Creative Agency
X-ORIGINAL-URL:https://hyperionca.com
X-WR-CALDESC:Events for Hyperion Creative Agency
REFRESH-INTERVAL;VALUE=DURATION:PT1H
X-Robots-Tag:noindex
X-PUBLISHED-TTL:PT1H
BEGIN:VTIMEZONE
TZID:UTC
BEGIN:STANDARD
TZOFFSETFROM:+0000
TZOFFSETTO:+0000
TZNAME:UTC
DTSTART:20260101T000000
END:STANDARD
END:VTIMEZONE
BEGIN:VEVENT
DTSTART;VALUE=DATE:20270224
DTEND;VALUE=DATE:20270225
DTSTAMP:20260422T224729
CREATED:20260319T214814Z
LAST-MODIFIED:20260319T214814Z
UID:2273-1803427200-1803513599@hyperionca.com
SUMMARY:MS Consulting SSL Renewal
DESCRIPTION:Inquire about hosting package \nPurchase and install SSL certificate
URL:https://hyperionca.com/event/ms-consulting-ssl-renewal/
ATTACH;FMTTYPE=image/jpeg:https://hyperionca.com/wp-content/uploads/2026/03/msc-bg.jpg
END:VEVENT
END:VCALENDAR